BEGIN:VCALENDAR
VERSION:2.0
PRODID:-//Cruzada Ministries - ECPv6.15.20//NONSGML v1.0//EN
CALSCALE:GREGORIAN
METHOD:PUBLISH
X-WR-CALNAME:Cruzada Ministries
X-ORIGINAL-URL:https://cruzadaministries.com/es
X-WR-CALDESC:Events for Cruzada Ministries
REFRESH-INTERVAL;VALUE=DURATION:PT1H
X-Robots-Tag:noindex
X-PUBLISHED-TTL:PT1H
BEGIN:VTIMEZONE
TZID:UTC
BEGIN:STANDARD
TZOFFSETFROM:+0000
TZOFFSETTO:+0000
TZNAME:UTC
DTSTART:20200101T000000
END:STANDARD
END:VTIMEZONE
BEGIN:VEVENT
DTSTART;TZID=UTC:20210803T080000
DTEND;TZID=UTC:20210803T170000
DTSTAMP:20260424T072750
CREATED:20210720T233746Z
LAST-MODIFIED:20210817T144406Z
UID:6878-1627977600-1628010000@cruzadaministries.com
SUMMARY:Event 2
DESCRIPTION:BigHearts is the largest global crowdfunding community connecting nonprofits\, donors\, and companies in nearly every country. We help nonprofits from Afghanistan to Zimbabwe (and hundreds of places in between) access the tools\, training\, and support they need to be more effective and make our world a better place.
URL:https://cruzadaministries.com/es/event/event-2/
ATTACH;FMTTYPE=image/jpeg:https://cruzadaministries.com/wp-content/uploads/2021/07/reading-1246520_1920-1.jpg
END:VEVENT
BEGIN:VEVENT
DTSTART;TZID=UTC:20210802T053000
DTEND;TZID=UTC:20211206T060000
DTSTAMP:20260424T072750
CREATED:20210719T215634Z
LAST-MODIFIED:20210908T152622Z
UID:6805-1627882200-1638770400@cruzadaministries.com
SUMMARY:Prayer Call (Every Monday )
DESCRIPTION:
URL:https://cruzadaministries.com/es/event/7-rules-about-home-the-aged-mi/
LOCATION:7 rules about home\, city town\, manchester\, NY\, United States
END:VEVENT
BEGIN:VEVENT
DTSTART;TZID=UTC:20210724T080000
DTEND;TZID=UTC:20210724T170000
DTSTAMP:20260424T072750
CREATED:20210720T233210Z
LAST-MODIFIED:20210720T233323Z
UID:6875-1627113600-1627146000@cruzadaministries.com
SUMMARY:Event 1
DESCRIPTION:
URL:https://cruzadaministries.com/es/event/event-1/
ATTACH;FMTTYPE=image/jpeg:https://cruzadaministries.com/wp-content/uploads/2021/07/christian-couples-holding-hands-and-praying-togeth-J9CMLZN-min-scaled.jpg
END:VEVENT
END:VCALENDAR